BEGIN:VCALENDAR
VERSION:2.0
PRODID:-//Zephyr Project - ECPv6.15.20//NONSGML v1.0//EN
CALSCALE:GREGORIAN
METHOD:PUBLISH
X-WR-CALNAME:Zephyr Project
X-ORIGINAL-URL:https://www.zephyrproject.org
X-WR-CALDESC:Events for Zephyr Project
REFRESH-INTERVAL;VALUE=DURATION:PT1H
X-Robots-Tag:noindex
X-PUBLISHED-TTL:PT1H
BEGIN:VTIMEZONE
TZID:Europe/Paris
BEGIN:DAYLIGHT
TZOFFSETFROM:+0100
TZOFFSETTO:+0200
TZNAME:CEST
DTSTART:20230326T010000
END:DAYLIGHT
BEGIN:STANDARD
TZOFFSETFROM:+0200
TZOFFSETTO:+0100
TZNAME:CET
DTSTART:20231029T010000
END:STANDARD
BEGIN:DAYLIGHT
TZOFFSETFROM:+0100
TZOFFSETTO:+0200
TZNAME:CEST
DTSTART:20240331T010000
END:DAYLIGHT
BEGIN:STANDARD
TZOFFSETFROM:+0200
TZOFFSETTO:+0100
TZNAME:CET
DTSTART:20241027T010000
END:STANDARD
BEGIN:DAYLIGHT
TZOFFSETFROM:+0100
TZOFFSETTO:+0200
TZNAME:CEST
DTSTART:20250330T010000
END:DAYLIGHT
BEGIN:STANDARD
TZOFFSETFROM:+0200
TZOFFSETTO:+0100
TZNAME:CET
DTSTART:20251026T010000
END:STANDARD
END:VTIMEZONE
BEGIN:VTIMEZONE
TZID:America/Los_Angeles
BEGIN:DAYLIGHT
TZOFFSETFROM:-0800
TZOFFSETTO:-0700
TZNAME:PDT
DTSTART:20230312T100000
END:DAYLIGHT
BEGIN:STANDARD
TZOFFSETFROM:-0700
TZOFFSETTO:-0800
TZNAME:PST
DTSTART:20231105T090000
END:STANDARD
BEGIN:DAYLIGHT
TZOFFSETFROM:-0800
TZOFFSETTO:-0700
TZNAME:PDT
DTSTART:20240310T100000
END:DAYLIGHT
BEGIN:STANDARD
TZOFFSETFROM:-0700
TZOFFSETTO:-0800
TZNAME:PST
DTSTART:20241103T090000
END:STANDARD
BEGIN:DAYLIGHT
TZOFFSETFROM:-0800
TZOFFSETTO:-0700
TZNAME:PDT
DTSTART:20250309T100000
END:DAYLIGHT
BEGIN:STANDARD
TZOFFSETFROM:-0700
TZOFFSETTO:-0800
TZNAME:PST
DTSTART:20251102T090000
END:STANDARD
END:VTIMEZONE
BEGIN:VTIMEZONE
TZID:Europe/Paris
BEGIN:DAYLIGHT
TZOFFSETFROM:+0100
TZOFFSETTO:+0200
TZNAME:CEST
DTSTART:20240331T010000
END:DAYLIGHT
BEGIN:STANDARD
TZOFFSETFROM:+0200
TZOFFSETTO:+0100
TZNAME:CET
DTSTART:20241027T010000
END:STANDARD
BEGIN:DAYLIGHT
TZOFFSETFROM:+0100
TZOFFSETTO:+0200
TZNAME:CEST
DTSTART:20250330T010000
END:DAYLIGHT
BEGIN:STANDARD
TZOFFSETFROM:+0200
TZOFFSETTO:+0100
TZNAME:CET
DTSTART:20251026T010000
END:STANDARD
BEGIN:DAYLIGHT
TZOFFSETFROM:+0100
TZOFFSETTO:+0200
TZNAME:CEST
DTSTART:20260329T010000
END:DAYLIGHT
BEGIN:STANDARD
TZOFFSETFROM:+0200
TZOFFSETTO:+0100
TZNAME:CET
DTSTART:20261025T010000
END:STANDARD
END:VTIMEZONE
BEGIN:VTIMEZONE
TZID:UTC
BEGIN:STANDARD
TZOFFSETFROM:+0000
TZOFFSETTO:+0000
TZNAME:UTC
DTSTART:20240101T000000
END:STANDARD
END:VTIMEZONE
BEGIN:VEVENT
DTSTART;TZID=Europe/Paris:20240117T150000
DTEND;TZID=Europe/Paris:20240117T160000
DTSTAMP:20260421T030331
CREATED:20231219T112619Z
LAST-MODIFIED:20240911T103527Z
UID:10000075-1705503600-1705507200@www.zephyrproject.org
SUMMARY:Zephyr Tech Talk #009 - Practical Tips to Build Secure & Observable Embedded Systems
DESCRIPTION:[vc_row type=”in_container” full_screen_row_position=”middle” column_margin=”default” column_direction=”default” column_direction_tablet=”default” column_direction_phone=”default” scene_position=”center” text_color=”dark” text_align=”left” row_border_radius=”none” row_border_radius_applies=”bg” overflow=”visible” overlay_strength=”0.3″ gradient_direction=”left_to_right” shape_divider_position=”bottom” bg_image_animation=”none”][vc_column column_padding=”no-extra-padding” column_padding_tablet=”inherit” column_padding_phone=”inherit” column_padding_position=”all” column_element_direction_desktop=”default” column_element_spacing=”default” desktop_text_alignment=”default” tablet_text_alignment=”default” phone_text_alignment=”default” background_color_opacity=”1″ background_hover_color_opacity=”1″ column_backdrop_filter=”none” column_shadow=”none” column_border_radius=”none” column_link_target=”_self” column_position=”default” gradient_direction=”left_to_right” overlay_strength=”0.3″ width=”1/1″ tablet_width_inherit=”default” animation_type=”default” bg_image_animation=”none” border_type=”simple” column_border_width=”none” column_border_style=”solid”][vc_column_text]Tune in on Wednesday\, Jan. 17\, 2024 (9:00 AM EST / 3:00 PM CET) for a new Zephyr Tech Talk live stream\, where Benjamin will be joined by Katarzyna Zalewska\, Software Engineer at Sternum. \nZephyr is being used in a wide variety of applications where it is critical to be able to remotely observe and monitor the behavior of the device\, in particular to detect and respond to security threats. In this talk\, we will discuss some of the typical threats that IoT devices are facing\, the current state of security in Zephyr\, and how commercial security offerings such as Sternum’s can be used to enhance the security of Zephyr-based devices at runtime.\nAs always\, we are planning on having lots of live demos\, and leaving plenty of time for you to ask your questions live in our chat. \nZephyr Tech Talks are live streams organized by and for the Zephyr community. Join us live to get a chance to ask your questions directly to our guests\, or simply catch up the recording anytime afterwards![/vc_column_text][/vc_column][/vc_row]
URL:https://www.zephyrproject.org/event/zephyr-tech-talk-009-practical-tips-to-build-secure-observable-embedded-systems/
CATEGORIES:Webinar,Zephyr Tech Talk
ATTACH;FMTTYPE=image/jpeg:https://www.zephyrproject.org/wp-content/uploads/2023/12/009-20240117-Katarzyna.jpg
END:VEVENT
BEGIN:VEVENT
DTSTART;TZID=America/Los_Angeles:20240313T100000
DTEND;TZID=America/Los_Angeles:20240313T110000
DTSTAMP:20260421T030331
CREATED:20240223T193735Z
LAST-MODIFIED:20240223T193735Z
UID:10000081-1710324000-1710327600@www.zephyrproject.org
SUMMARY:Nordic Webinar: Adding Device Firmware Update (DFU/FOTA) Support in nRF Connect SDK
DESCRIPTION:Having Device Firmware Update (DFU) or Firmware Over-The-Air (FOTA) support in an IoT product is becoming the norm now; it has become a standard requirement in modern products\, and customers expect products to have it for security updates and improvements updates. \nIn this developer-oriented webinar on March 13 at 10 am PDT (9 AM CET / 4 PM CST ASIA & 6 PM CET / 1 PM EDT)\, Nordic will dive into the fundamental principles and best practices for adding DFU/FOTA support in an nRF Connect SDK-based firmware. We will focus on MCUboot as the default bootloader in the Zephyr RTOS\, inherited by the nRF Connect SDK. \nThis webinar is managed by Nordic Semiconductor. To learn more about it or to register for the event\, click here. \nAgenda:\n– General bootloader (MCUboot) and DFU concepts\n– Fundamental options in MCUboot and options to perform DFU/FOTA in MCUboot\n– Multi-Image builds and the Partition Manager\n– Hands-on demos for DFU over UART and FOTA over Bluetooth Low Energy\n– Detailed hands-on resources for DFU over USB\, DFU over external memory\, and FOTA over – – Wi-Fi/Cellular IoT\n– Q&A \nSpeakers:  \n \n 
URL:https://www.zephyrproject.org/event/nordic-webinar-adding-device-firmware-update-dfu-fota-support-in-nrf-connect-sdk/
CATEGORIES:Webinar
ATTACH;FMTTYPE=image/jpeg:https://www.zephyrproject.org/wp-content/uploads/2024/02/voHVAkbf.jpg
END:VEVENT
BEGIN:VEVENT
DTSTART;TZID=Europe/Paris:20250319T110000
DTEND;TZID=Europe/Paris:20250319T120000
DTSTAMP:20260421T030331
CREATED:20250303T094027Z
LAST-MODIFIED:20250305T110251Z
UID:10000135-1742382000-1742385600@www.zephyrproject.org
SUMMARY:Webinar: Building Embedded Products with Zephyr
DESCRIPTION:Date: Wednesday\, March 19\, 2025 \nDuration: 1 hour session (All Time Zones) \nPresenter: Loïc Domaigné\, Doulos Senior Member Technical Staff \nWebinar Overview\n\nAre you considering using Zephyr RTOS on your next embedded system project?\nDo you want to find out what Zephyr RTOS can do for you in practice?\n\nThen start here… \nThe Zephyr RTOS has gained a lot of traction in recent years. \nZephyr is more than just a new RTOS “kid on the block” with a cool kite. It is a very modular\, highly portable\, real-time operating system with an associated eco-system to build secure\, connected and future-proof devices. \nBut what does that really mean? And how does that help you with your product development? What are the actual challenges? \nIn this webinar\, we will look at building Zephyr applications\, what sets Zephyr apart from other traditional RTOSs/embedded OSs\, and how Zephyr supports the development and expectations for connected embedded products. We will conclude by showing application examples on an NXP MCX N FRDM Development board with Percepio Tracealyzer. \nContent Summary:\n\nBackground\nWhy use Zephyr RTOS?\nArchitecture and Features Overview\nLicensing and Release Lifecycle\nMCX N FRDM Development Board & Tracealyzer Demo\nConclusion\n\nAbout the speaker:\nLoïc Domaigné\, a Doulos Senior Member of the Technical Staff\, will be presenting this training webinar. The session will last one hour and include an interactive Q&A segment with attendee participation. \nRegister for the webinar here. \nWebinar Timing – All Time Zones:\nAsia & Europe:\n📅 Wednesday\, March 19\, 2025⏰ 10:00 – 11:00 AM (GMT)⏰ 11:00 AM – 12:00 PM (CET)⏰ 3:30 – 4:30 PM (IST) \nAmericas:\n📅 Wednesday\, March 19\, 2025⏰ 10:00 – 11:00 AM (PDT)⏰ 11:00 AM – 12:00 PM (MDT)⏰ 12:00 – 1:00 PM (CDT)⏰ 1:00 – 2:00 PM (EDT) \nAttendance is free of charge \nIf you have any queries\, please contact webinars@doulos.com
URL:https://www.zephyrproject.org/event/webinar-building-embedded-products-with-zephyr/
CATEGORIES:Member Event,Webinar
ATTACH;FMTTYPE=image/jpeg:https://www.zephyrproject.org/wp-content/uploads/2025/03/Zephyr-social-card-1600-900v2.jpg
LOCATION:https://www.zephyrproject.org/event/webinar-building-embedded-products-with-zephyr/
END:VEVENT
BEGIN:VEVENT
DTSTART;TZID=UTC:20250702T150000
DTEND;TZID=UTC:20250702T160000
DTSTAMP:20260421T030331
CREATED:20250702T115156Z
LAST-MODIFIED:20250702T123725Z
UID:10000156-1751468400-1751472000@www.zephyrproject.org
SUMMARY:How Zephyr became the leading open source RTOS for IoT
DESCRIPTION:Zephyr RTOS has rapidly grown into the most widely adopted open-source real-time operating system for secure\, connected\, and low-power embedded devices. Hosted by the Linux Foundation and backed by a vibrant community of contributors\, Zephyr offers much more than an RTOS kernel—it’s a comprehensive\, modular\, portable\, and scalable ecosystem trusted by thousands of developers around the world. \nOne of the earliest adopters and the top contributor to Zephyr\, Nordic Semiconductor recognized the project’s potential back in 2016 and made the strategic decision to adopt it as the foundation for its nRF Connect SDK. That decision has enabled Nordic to deliver robust\, production-grade software offerings across a wide portfolio of wireless SoCs\, helping developers bring innovative wireless products to market faster. \nJoin Kate Stewart from the Linux Foundation along with Carles Cufi and Ali Aljaani for a behind-the-scenes look at Zephyr’s evolution\, its growing role as an industry standard\, and how Nordic contributes to the open-source community. \nAgenda: \n\nIs Zephyr just an RTOS? Understand how Zephyr is an ecosystem with drivers\, protocols\, middleware\, tools\, and security—all maintained under one cohesive project.\nZephyr 2016 vs. Today: Explore Zephyr’s major milestones\, technical evolution\, and its unprecedented adoption growth.\nWhy Nordic Chose Zephyr: Learn what sets Zephyr apart from other RTOS options and why Nordic decided to go all-in with Zephyr.\nInside nRF Connect SDK: See how Nordic built a complete SDK around Zephyr\, integrating additional networking protocols\, tools\, and libraries to support its hardware platforms.\nNordic’s Contributions to Zephyr: Did you know that roughly a quarter of the contributions to Zephyr came from Nordic? Discover key contributions by Nordic to Zephyr—from the Bluetooth LE controller and USB stack to west tool\, DFU frameworks\, and more.\nGetting Started with Zephyr-based software development: Access tools and resources to accelerate your development/onboarding journey—like nRF Connect for VS Code\, Nordic Developer Academy\, and more.\n\n  \nDate: July 2\, 2025 \nTime: 3 PM CET / 8 AM CST \nDuration: 60 min \nRegister now
URL:https://www.zephyrproject.org/event/how-zephyr-became-the-leading-open-source-rtos-for-iot/
CATEGORIES:Member Event,Webinar
ATTACH;FMTTYPE=image/png:https://www.zephyrproject.org/wp-content/uploads/2025/07/large.png
END:VEVENT
END:VCALENDAR