BEGIN:VCALENDAR
VERSION:2.0
PRODID:-//Zephyr Project - ECPv6.15.20//NONSGML v1.0//EN
CALSCALE:GREGORIAN
METHOD:PUBLISH
X-WR-CALNAME:Zephyr Project
X-ORIGINAL-URL:https://www.zephyrproject.org
X-WR-CALDESC:Events for Zephyr Project
REFRESH-INTERVAL;VALUE=DURATION:PT1H
X-Robots-Tag:noindex
X-PUBLISHED-TTL:PT1H
BEGIN:VTIMEZONE
TZID:America/Los_Angeles
BEGIN:DAYLIGHT
TZOFFSETFROM:-0800
TZOFFSETTO:-0700
TZNAME:PDT
DTSTART:20220313T100000
END:DAYLIGHT
BEGIN:STANDARD
TZOFFSETFROM:-0700
TZOFFSETTO:-0800
TZNAME:PST
DTSTART:20221106T090000
END:STANDARD
BEGIN:DAYLIGHT
TZOFFSETFROM:-0800
TZOFFSETTO:-0700
TZNAME:PDT
DTSTART:20230312T100000
END:DAYLIGHT
BEGIN:STANDARD
TZOFFSETFROM:-0700
TZOFFSETTO:-0800
TZNAME:PST
DTSTART:20231105T090000
END:STANDARD
BEGIN:DAYLIGHT
TZOFFSETFROM:-0800
TZOFFSETTO:-0700
TZNAME:PDT
DTSTART:20240310T100000
END:DAYLIGHT
BEGIN:STANDARD
TZOFFSETFROM:-0700
TZOFFSETTO:-0800
TZNAME:PST
DTSTART:20241103T090000
END:STANDARD
END:VTIMEZONE
BEGIN:VEVENT
DTSTART;TZID=America/Los_Angeles:20231116T090000
DTEND;TZID=America/Los_Angeles:20231116T100000
DTSTAMP:20260420T142749
CREATED:20231025T150416Z
LAST-MODIFIED:20231025T150416Z
UID:10000070-1700125200-1700128800@www.zephyrproject.org
SUMMARY:(Memfault Webinar) NXP + Memfault + Golioth: Bringing Observability and Device Management to IoT Devices
DESCRIPTION:[vc_row type=”in_container” full_screen_row_position=”middle” column_margin=”default” column_direction=”default” column_direction_tablet=”default” column_direction_phone=”default” scene_position=”center” text_color=”dark” text_align=”left” row_border_radius=”none” row_border_radius_applies=”bg” overflow=”visible” overlay_strength=”0.3″ gradient_direction=”left_to_right” shape_divider_position=”bottom” bg_image_animation=”none”][vc_column column_padding=”no-extra-padding” column_padding_tablet=”inherit” column_padding_phone=”inherit” column_padding_position=”all” column_element_direction_desktop=”default” column_element_spacing=”default” desktop_text_alignment=”default” tablet_text_alignment=”default” phone_text_alignment=”default” background_color_opacity=”1″ background_hover_color_opacity=”1″ column_backdrop_filter=”none” column_shadow=”none” column_border_radius=”none” column_link_target=”_self” column_position=”default” gradient_direction=”left_to_right” overlay_strength=”0.3″ width=”1/1″ tablet_width_inherit=”default” animation_type=”default” bg_image_animation=”none” border_type=”simple” column_border_width=”none” column_border_style=”solid”][vc_column_text]\n\n\n\n\nJoin Zephyr Project members NXP\, Golioth\, and Memfault for a webinar November 16\, 2023 at 9 am PST/12 pm EST/6 pm CET. Register here. \nNXP\, Golioth and Memfault collaborated to give IoT developers the same composable tooling that cloud developers are accustomed to with modern data architectures. With this partnership\, NXP developers can leverage a single\, secure connection for instant access to data routing\, core dump analysis\, and observability for rapid time-to-market and improved IoT device performance. \nThe webinar\, which is managed by Memfault\, will cover: \n\nHow Golioth functions as the Device Management layer(secure\, two-way messaging) for your application layer telemetry\nHow Memfault functions as the Diagnostics plane\, greatly augmenting your solution with observability and crash analytics\nGetting started with Memfault and Golioth on NXP devices running Zephyr RTOS\n\nLearn more about the partnership here. Register for the Memfault webinar here. \n  \nPanelists\n\n\n\n\n\n\n\n\n\n\n\n\n\n\n\n\n\n\n\n\nKyle Dando\nDevelopment Systems Application Engineer\nNXP Semiconductors\nKyle Dando is passionate about helping engineers learn how to use the tools required for their embedded designs.  At NXP\, Kyle is focused on improving the ways that enablement software is delivered.  He is partnering with Memfault to simplify how customers get started adding remote diagnostics to their NXP projects.  He holds Computer and Electrical Engineering degrees from Purdue University and Santa Clara University.  His work experience includes hardware and software design\, and teaching countless customer events on various embedded design tools. \n  \n\n\n\n\n\n\n\n\n\n\n\n\n\n\n\n\n\n\n\n\n\n\n\nDan Magnum\nLead Cloud Engineer\nGolioth\nPrior to Golioth\, Dan worked in a variety of infrastructure automation and distributed systems roles\, building software that powers internal cloud platforms at some of the largest companies in the world. He is a long-time open-source contributor\, serving in leadership roles in the Kubernetes community and acting as a maintainer of the Crossplane project. Throughout his career\, Dan has worked to peel back the abstraction layers in the modern computing stack\, writing and speaking about everything from instruction set architectures and bare metal software to container runtimes and web services. \n  \n\n\n\n\n\n\n\n\n\n\n\n\n\n\n\n\n\n\n\n\n\n\n\nNoah Pendleton\nFirmware Solutions Engineer\nMemfault\nNoah Pendleton is one of our Firmware Solutions Engineers on our Developer Experience team. Noah works closely with Memfault customers to help them navigate and best utilize the Memfault platform. Before Memfault\, Noah worked at Markforged\, Fitbit\, and APC as a firmware engineer. Noah has a bachelor’s degree in Electrical and Computer Engineering from the Worcester Polytechnic Institute. \n\n\n\n\n\n\n\n[/vc_column_text][/vc_column][/vc_row]
URL:https://www.zephyrproject.org/event/memfault-webinar/
CATEGORIES:Member Event,Webinar
ATTACH;FMTTYPE=image/png:https://www.zephyrproject.org/wp-content/uploads/2023/10/Screenshot-2023-10-25-at-2.55.11-PM.png
END:VEVENT
BEGIN:VEVENT
DTSTART;TZID=America/Los_Angeles:20231129T080000
DTEND;TZID=America/Los_Angeles:20231129T090000
DTSTAMP:20260420T142749
CREATED:20231110T085526Z
LAST-MODIFIED:20231110T085526Z
UID:10000073-1701244800-1701248400@www.zephyrproject.org
SUMMARY:(EmbeddedOnlineConference.com Webinar) Getting Started with Zephyr RTOS
DESCRIPTION:[vc_row type=”in_container” full_screen_row_position=”middle” column_margin=”default” column_direction=”default” column_direction_tablet=”default” column_direction_phone=”default” scene_position=”center” text_color=”dark” text_align=”left” row_border_radius=”none” row_border_radius_applies=”bg” overflow=”visible” overlay_strength=”0.3″ gradient_direction=”left_to_right” shape_divider_position=”bottom” bg_image_animation=”none”][vc_column column_padding=”no-extra-padding” column_padding_tablet=”inherit” column_padding_phone=”inherit” column_padding_position=”all” column_element_direction_desktop=”default” column_element_spacing=”default” desktop_text_alignment=”default” tablet_text_alignment=”default” phone_text_alignment=”default” background_color_opacity=”1″ background_hover_color_opacity=”1″ column_backdrop_filter=”none” column_shadow=”none” column_border_radius=”none” column_link_target=”_self” column_position=”default” gradient_direction=”left_to_right” overlay_strength=”0.3″ width=”1/1″ tablet_width_inherit=”default” animation_type=”default” bg_image_animation=”none” border_type=”simple” column_border_width=”none” column_border_style=”solid”][vc_column_text]On November 29 at 8 am PDT/11 am EDT\, join Jacob Beningo and Mohammed Billoo\, for a free webinar about “Getting Started with Zephyr RTOS.” \nThe Zephyr Project is rapidly emerging as a leading real-time operating system (RTOS). Commonly referred to as “Zephyr”\, its vision is to be the premier RTOS for connected\, resource-constrained devices. Zephyr integreates both open-source and security best practices to ensure a vendor-neutral\, secure and reliable platform. \nIn this webinar\, we delve into an introductory exploration of The Zephyr Project RTOS.  Attendees will gain insight into the fundamental elements of an RTOS and  and Zephyr’s implementation stands out. We will unpack the key components of Zephyr and offer a roadmap for getting comfortable navigating its codebase. \nThe session will discuss the intricacies of a Zephyr application\, guiding attendees on how to craft their own application\, using a “Hello World” application as a demonstration. Finally\, we will discuss advanced topics\, including how to gain in-depth insights into our firmware using the Memfault framework\, which is built right into Zephyr. \nTopics covered in this talk will include: \n\nRTOS overview and review\nThe Zephyr Project architecture\nThe elements of a Zephyr application\nAdvanced “Hello World” demonstration\nFirmware insights\n\nThis event is being organized and managed by the Beningo Embedded Group and MAB Labs. Register for the webinar here.[/vc_column_text][/vc_column][/vc_row]
URL:https://www.zephyrproject.org/event/embeddedonlineconference-com-webinar-getting-started-with-zephyr-rtos/
CATEGORIES:Webinar
ATTACH;FMTTYPE=image/png:https://www.zephyrproject.org/wp-content/uploads/2023/11/631_promo_large.png
END:VEVENT
END:VCALENDAR