BEGIN:VCALENDAR
VERSION:2.0
PRODID:-//Zephyr Project - ECPv6.15.20//NONSGML v1.0//EN
CALSCALE:GREGORIAN
METHOD:PUBLISH
X-ORIGINAL-URL:https://www.zephyrproject.org
X-WR-CALDESC:Events for Zephyr Project
REFRESH-INTERVAL;VALUE=DURATION:PT1H
X-Robots-Tag:noindex
X-PUBLISHED-TTL:PT1H
BEGIN:VTIMEZONE
TZID:America/Los_Angeles
BEGIN:DAYLIGHT
TZOFFSETFROM:-0800
TZOFFSETTO:-0700
TZNAME:PDT
DTSTART:20220313T100000
END:DAYLIGHT
BEGIN:STANDARD
TZOFFSETFROM:-0700
TZOFFSETTO:-0800
TZNAME:PST
DTSTART:20221106T090000
END:STANDARD
BEGIN:DAYLIGHT
TZOFFSETFROM:-0800
TZOFFSETTO:-0700
TZNAME:PDT
DTSTART:20230312T100000
END:DAYLIGHT
BEGIN:STANDARD
TZOFFSETFROM:-0700
TZOFFSETTO:-0800
TZNAME:PST
DTSTART:20231105T090000
END:STANDARD
BEGIN:DAYLIGHT
TZOFFSETFROM:-0800
TZOFFSETTO:-0700
TZNAME:PDT
DTSTART:20240310T100000
END:DAYLIGHT
BEGIN:STANDARD
TZOFFSETFROM:-0700
TZOFFSETTO:-0800
TZNAME:PST
DTSTART:20241103T090000
END:STANDARD
END:VTIMEZONE
BEGIN:VTIMEZONE
TZID:Europe/Paris
BEGIN:DAYLIGHT
TZOFFSETFROM:+0100
TZOFFSETTO:+0200
TZNAME:CEST
DTSTART:20220327T010000
END:DAYLIGHT
BEGIN:STANDARD
TZOFFSETFROM:+0200
TZOFFSETTO:+0100
TZNAME:CET
DTSTART:20221030T010000
END:STANDARD
BEGIN:DAYLIGHT
TZOFFSETFROM:+0100
TZOFFSETTO:+0200
TZNAME:CEST
DTSTART:20230326T010000
END:DAYLIGHT
BEGIN:STANDARD
TZOFFSETFROM:+0200
TZOFFSETTO:+0100
TZNAME:CET
DTSTART:20231029T010000
END:STANDARD
BEGIN:DAYLIGHT
TZOFFSETFROM:+0100
TZOFFSETTO:+0200
TZNAME:CEST
DTSTART:20240331T010000
END:DAYLIGHT
BEGIN:STANDARD
TZOFFSETFROM:+0200
TZOFFSETTO:+0100
TZNAME:CET
DTSTART:20241027T010000
END:STANDARD
END:VTIMEZONE
BEGIN:VEVENT
DTSTART;TZID=America/Los_Angeles:20231004T090000
DTEND;TZID=America/Los_Angeles:20231004T100000
DTSTAMP:20260420T155902
CREATED:20230908T114528Z
LAST-MODIFIED:20230908T114528Z
UID:10000062-1696410000-1696413600@www.zephyrproject.org
SUMMARY:Women of Zephyr - Ask Me Anything
DESCRIPTION:[vc_row type=”in_container” full_screen_row_position=”middle” column_margin=”default” column_direction=”default” column_direction_tablet=”default” column_direction_phone=”default” scene_position=”center” text_color=”dark” text_align=”left” row_border_radius=”none” row_border_radius_applies=”bg” overflow=”visible” overlay_strength=”0.3″ gradient_direction=”left_to_right” shape_divider_position=”bottom” bg_image_animation=”none”][vc_column column_padding=”no-extra-padding” column_padding_tablet=”inherit” column_padding_phone=”inherit” column_padding_position=”all” column_element_direction_desktop=”default” column_element_spacing=”default” desktop_text_alignment=”default” tablet_text_alignment=”default” phone_text_alignment=”default” background_color_opacity=”1″ background_hover_color_opacity=”1″ column_backdrop_filter=”none” column_shadow=”none” column_border_radius=”none” column_link_target=”_self” column_position=”default” gradient_direction=”left_to_right” overlay_strength=”0.3″ width=”1/1″ tablet_width_inherit=”default” animation_type=”default” bg_image_animation=”none” border_type=”simple” column_border_width=”none” column_border_style=”solid”][vc_column_text]Join the Women of Zephyr on Wednesday\, October 4 at 9-10 am PT to discuss the opportunities and challenges of working in technology\, open source and more. Panelists will share their backgrounds\, their roles within the Zephyr ecosystem and will answer any questions you have. Register here. \n\n\n \nSpeakers: \n\nAmy Occhialino\, Zephyr Project Governing Board Chair and Director of Open Source OS Engineering at Intel\nKate Stewart\, Vice President of Dependable Embedded Systems at the Linux Foundation\nMaureen Helm\, Member of the Zephyr Technical Steering Committee and Distinguished Engineer at Analog Devices\nNicole Pappler\, Zephyr’s Functional Safety Manager and CTO and Founder of AlektoMetis\n\nRegister: https://zoom.us/webinar/register/WN_HpIgJ-wJQ4y2W5Bh2xETdw#/registration \n\n\n[/vc_column_text][/vc_column][/vc_row]
URL:https://www.zephyrproject.org/event/women-of-zephyr-ask-me-anything/
CATEGORIES:Ambassador Speaking,Webinar
ATTACH;FMTTYPE=image/svg+xml:https://www.zephyrproject.org/wp-content/uploads/2023/03/zephyr_project_r_stacked_color_positive_big.svg
END:VEVENT
BEGIN:VEVENT
DTSTART;TZID=Europe/Paris:20231011T150000
DTEND;TZID=Europe/Paris:20231011T160000
DTSTAMP:20260420T155902
CREATED:20230926T093528Z
LAST-MODIFIED:20240911T103527Z
UID:10000066-1697036400-1697040000@www.zephyrproject.org
SUMMARY:Zephyr Tech Talk #003 - Embedded CI on Steroids with Zephyr & Renode
DESCRIPTION:[vc_row type=”in_container” full_screen_row_position=”middle” column_margin=”default” column_direction=”default” column_direction_tablet=”default” column_direction_phone=”default” scene_position=”center” text_color=”dark” text_align=”left” row_border_radius=”none” row_border_radius_applies=”bg” overflow=”visible” overlay_strength=”0.3″ gradient_direction=”left_to_right” shape_divider_position=”bottom” bg_image_animation=”none”][vc_column column_padding=”no-extra-padding” column_padding_tablet=”inherit” column_padding_phone=”inherit” column_padding_position=”all” column_element_direction_desktop=”default” column_element_spacing=”default” desktop_text_alignment=”default” tablet_text_alignment=”default” phone_text_alignment=”default” background_color_opacity=”1″ background_hover_color_opacity=”1″ column_backdrop_filter=”none” column_shadow=”none” column_border_radius=”none” column_link_target=”_self” column_position=”default” gradient_direction=”left_to_right” overlay_strength=”0.3″ width=”1/1″ tablet_width_inherit=”default” animation_type=”default” bg_image_animation=”none” border_type=”simple” column_border_width=”none” column_border_style=”solid”][vc_column_text]Tune in on Wednesday\, Oct. 11 (9:00 AM EDT / 3:00 PM CEST) for a new Zephyr Tech Talk live stream! \nIn this episode\, we will be chatting with Peter Zierhoffer from Antmicro.\nWe will be taking the topic of continuous integration that we covered in our first episode to the next level\, and dive into Renode\, an open-source simulation framework.\nRenode makes it possible to simulate a wide variety of hardware components and network configurations\, and we will explore how it can help with even the most challenging use-cases such as long-running tests\, accurate sensor input\, and time control. Peter will be showing us how to use Renode for the continuous integration of your Zephyr projects using Twister and the Robot Framework\, as well as plenty other tips and demos around all things CI. \nZephyr Tech Talks are live streams organized by and for the Zephyr community. Join us live to get a chance to ask your questions directly to Bjarki\, or simply catch up the recording anytime afterwards![/vc_column_text][/vc_column][/vc_row]
URL:https://www.zephyrproject.org/event/zephyr-tech-talk-003-embedded-ci-on-steroids-with-zephyr-renode/
CATEGORIES:Webinar,Zephyr Tech Talk
ATTACH;FMTTYPE=image/jpeg:https://www.zephyrproject.org/wp-content/uploads/2023/09/003-20231011-Piotr.jpg
END:VEVENT
BEGIN:VEVENT
DTSTART;TZID=America/Los_Angeles:20231025T090000
DTEND;TZID=America/Los_Angeles:20231025T100000
DTSTAMP:20260420T155902
CREATED:20231012T191105Z
LAST-MODIFIED:20231012T191105Z
UID:10000069-1698224400-1698228000@www.zephyrproject.org
SUMMARY:Nordic Semiconductor Webinar: Adding custom boards in nRF Connect SDK
DESCRIPTION:[vc_row type=”in_container” full_screen_row_position=”middle” column_margin=”default” column_direction=”default” column_direction_tablet=”default” column_direction_phone=”default” scene_position=”center” text_color=”dark” text_align=”left” row_border_radius=”none” row_border_radius_applies=”bg” overflow=”visible” overlay_strength=”0.3″ gradient_direction=”left_to_right” shape_divider_position=”bottom” bg_image_animation=”none”][vc_column column_padding=”no-extra-padding” column_padding_tablet=”inherit” column_padding_phone=”inherit” column_padding_position=”all” column_element_direction_desktop=”default” column_element_spacing=”default” desktop_text_alignment=”default” tablet_text_alignment=”default” phone_text_alignment=”default” background_color_opacity=”1″ background_hover_color_opacity=”1″ column_backdrop_filter=”none” column_shadow=”none” column_border_radius=”none” column_link_target=”_self” column_position=”default” gradient_direction=”left_to_right” overlay_strength=”0.3″ width=”1/1″ tablet_width_inherit=”default” animation_type=”default” bg_image_animation=”none” border_type=”simple” column_border_width=”none” column_border_style=”solid”][vc_column_text]Nordic Semiconductor is hosting a free webinar about adding custom boards in nRF Connect SDK on October 25 at 9 AM CEST / 3 PM CST Asia & 6 PM CET / 12 PM ET / 9 AM PT. The webinar will include several Zephyr-related topics.  \nDuring your product development journey\, you will run into the stage where you want to move your firmware from a development kit to your own hardware design (custom board). Ali Aljaani\, Developer Marketing Manager at Nordic Semiconductor\, will lead this developers-oriented webinar and dive into the fundamental principles and best practices for seamlessly adding support for a custom board in nRF Connect SDK. \nAgenda:\n\nWhat is a “board” in the context of nRF Connect SDK/Zephyr?\nExamine the hardware support hierarchy in nRF Connect SDK/Zephyr and analyze the options for adding a custom board.\nExplore mandatory\, optional\, and special use case board files.\nLearn how to translate hardware schematics to devicetree syntax using nRF Connect for VS Code extension and how to write your own Kconfig files for your own hardware design.\nSpecial considerations for the nRF91 and nRF53 Series.\nHands-on demo.\nQ&A.\n\nRegister for this Nordic webinar here.[/vc_column_text][/vc_column][/vc_row]
URL:https://www.zephyrproject.org/event/nordic-semiconductor-webinar-adding-custom-boards-in-nrf-connect-sdk/
CATEGORIES:Member Event,Webinar
ATTACH;FMTTYPE=image/png:https://www.zephyrproject.org/wp-content/uploads/2023/10/Screenshot-2023-10-12-at-7.02.39-PM-1.png
END:VEVENT
END:VCALENDAR